{
 "currentVersion": 10.9,
 "serviceDescription": "Pan-sharpened Landsat GLS image service covering the landmass of the World. This service includes Panchromatic (Band 8) scenes at 15 meter resolution pan-sharpened with Natural Color bands (Red, Green, Blue) at 30 meter resolution from Landsat 8, Landsat 7 ETM, Landsat 5 TM, Landsat 4, as well as Global Land Survey (GLS) data from years 2000, 2005 and 2010. Using on-the-fly processing, the raw DN values are transformed to scaled (0 - 10000) apparent reflectance values and then different enhancement renderings are applied. The band names are in line with Landsat 8 bands and the GLS data band names are also mapped along the same lines.",
 "name": "Landsat/PS",
 "description": "Pan-sharpened Landsat GLS image service covering the landmass of the World. This service includes Panchromatic (Band 8) scenes at 15 meter resolution pan-sharpened with Natural Color bands (Red, Green, Blue) at 30 meter resolution from Landsat 8, Landsat 7 ETM, Landsat 5 TM, Landsat 4, as well as Global Land Survey (GLS) data from years 2000, 2005 and 2010. Using on-the-fly processing, the raw DN values are transformed to scaled (0 - 10000) apparent reflectance values and then different enhancement renderings are applied. The band names are in line with Landsat 8 bands and the GLS data band names are also mapped along the same lines.",
 "extent": {
  "xmin": -2.00375070672E7,
  "ymin": -9694106.070299998,
  "xmax": 2.0037507842788246E7,
  "ymax": 9691188.929700002,
  "spatialReference": {
   "wkid": 102100,
   "latestWkid": 3857
  }
 },
 "initialExtent": {
  "xmin": -2.00375070672E7,
  "ymin": -9694106.070299998,
  "xmax": 2.0037507842788246E7,
  "ymax": 9691188.929700002,
  "spatialReference": {
   "wkid": 102100,
   "latestWkid": 3857
  }
 },
 "fullExtent": {
  "xmin": -2.00375070672E7,
  "ymin": -9694106.070299998,
  "xmax": 2.0037507842788246E7,
  "ymax": 9691188.929700002,
  "spatialReference": {
   "wkid": 102100,
   "latestWkid": 3857
  }
 },
 "hasMultidimensions": false,
 "timeInfo": {
  "startTimeField": "AcquisitionDate",
  "endTimeField": "AcquisitionDate",
  "timeExtent": [
   915148800000,
   1743630761000
  ],
  "timeReference": null
 },
 "pixelSizeX": 14.99999809481876,
 "pixelSizeY": 15,
 "datasetFormat": "AMD",
 "uncompressedSize": 20716428928824,
 "blockWidth": 2048,
 "blockHeight": 256,
 "compressionType": "None",
 "bandNames": [
  "Band_1",
  "Band_2",
  "Band_3"
 ],
 "allowCopy": true,
 "allowAnalysis": true,
 "bandCount": 3,
 "pixelType": "S16",
 "minPixelSize": 0,
 "maxPixelSize": 0,
 "copyrightText": "",
 "serviceDataType": "esriImageServiceDataTypeGeneric",
 "serviceSourceType": "esriImageServiceSourceTypeMosaicDataset",
 "minValues": [
  0,
  0,
  0
 ],
 "maxValues": [
  10000,
  10000,
  10000
 ],
 "meanValues": [
  3500,
  3500,
  3500
 ],
 "stdvValues": [
  1250,
  1250,
  1250
 ],
 "objectIdField": "OBJECTID",
 "fields": [
  {
   "name": "OBJECTID",
   "type": "esriFieldTypeOID",
   "alias": "OBJECTID",
   "domain": null
  },
  {
   "name": "Name",
   "type": "esriFieldTypeString",
   "alias": "Name",
   "domain": null,
   "length": 200
  },
  {
   "name": "MinPS",
   "type": "esriFieldTypeDouble",
   "alias": "MinPS",
   "domain": null
  },
  {
   "name": "MaxPS",
   "type": "esriFieldTypeDouble",
   "alias": "MaxPS",
   "domain": null
  },
  {
   "name": "LowPS",
   "type": "esriFieldTypeDouble",
   "alias": "LowPS",
   "domain": null
  },
  {
   "name": "HighPS",
   "type": "esriFieldTypeDouble",
   "alias": "HighPS",
   "domain": null
  },
  {
   "name": "Category",
   "type": "esriFieldTypeInteger",
   "alias": "Category",
   "domain": {
    "type": "codedValue",
    "name": "MosaicCatalogItemCategoryDomain",
    "description": "Catalog item categories.",
    "codedValues": [
     {
      "name": "Unknown",
      "code": 0
     },
     {
      "name": "Primary",
      "code": 1
     },
     {
      "name": "Overview",
      "code": 2
     },
     {
      "name": "Unprocessed Overview",
      "code": 3
     },
     {
      "name": "Partial Overview",
      "code": 4
     },
     {
      "name": "Inactive",
      "code": 5
     },
     {
      "name": "Uploaded",
      "code": 253
     },
     {
      "name": "Incomplete",
      "code": 254
     },
     {
      "name": "Custom",
      "code": 255
     }
    ],
    "mergePolicy": "esriMPTDefaultValue",
    "splitPolicy": "esriSPTDefaultValue"
   }
  },
  {
   "name": "GroupName",
   "type": "esriFieldTypeString",
   "alias": "GroupName",
   "domain": null,
   "length": 100
  },
  {
   "name": "ProductName",
   "type": "esriFieldTypeString",
   "alias": "ProductName",
   "domain": null,
   "length": 100
  },
  {
   "name": "CenterX",
   "type": "esriFieldTypeDouble",
   "alias": "CenterX",
   "domain": null
  },
  {
   "name": "CenterY",
   "type": "esriFieldTypeDouble",
   "alias": "CenterY",
   "domain": null
  },
  {
   "name": "Shape",
   "type": "esriFieldTypeGeometry",
   "alias": "Shape",
   "domain": null
  },
  {
   "name": "SensorName",
   "type": "esriFieldTypeString",
   "alias": "Sensor Name",
   "domain": null,
   "length": 20
  },
  {
   "name": "AcquisitionDate",
   "type": "esriFieldTypeDate",
   "alias": "Acquisition Date",
   "domain": null,
   "length": 8
  },
  {
   "name": "SunAzimuth",
   "type": "esriFieldTypeDouble",
   "alias": "Sun Azimuth",
   "domain": null
  },
  {
   "name": "SunElevation",
   "type": "esriFieldTypeDouble",
   "alias": "Sun Elevation",
   "domain": null
  },
  {
   "name": "CloudCover",
   "type": "esriFieldTypeDouble",
   "alias": "Cloud Cover",
   "domain": null
  },
  {
   "name": "Best",
   "type": "esriFieldTypeInteger",
   "alias": "Best",
   "domain": null
  },
  {
   "name": "DateUpdated",
   "type": "esriFieldTypeDate",
   "alias": "DateUpdated",
   "domain": null,
   "length": 8
  },
  {
   "name": "PR",
   "type": "esriFieldTypeInteger",
   "alias": "PR",
   "domain": null
  },
  {
   "name": "Latest",
   "type": "esriFieldTypeInteger",
   "alias": "Latest",
   "domain": null
  },
  {
   "name": "DayOfYear",
   "type": "esriFieldTypeInteger",
   "alias": "DayOfYear",
   "domain": null
  },
  {
   "name": "Month",
   "type": "esriFieldTypeSmallInteger",
   "alias": "Month",
   "domain": null
  },
  {
   "name": "LANDSAT_SCENE_ID",
   "type": "esriFieldTypeString",
   "alias": "LANDSAT_SCENE_ID",
   "domain": null,
   "length": 30
  },
  {
   "name": "LANDSAT_PRODUCT_ID",
   "type": "esriFieldTypeString",
   "alias": "LANDSAT_PRODUCT_ID",
   "domain": null,
   "length": 50
  },
  {
   "name": "dataset_id",
   "type": "esriFieldTypeString",
   "alias": "dataset_id",
   "domain": null,
   "length": 50
  },
  {
   "name": "WRS_Path",
   "type": "esriFieldTypeInteger",
   "alias": "WRS_Path",
   "domain": null
  },
  {
   "name": "WRS_Row",
   "type": "esriFieldTypeInteger",
   "alias": "WRS_Row",
   "domain": null
  }
 ],
 "capabilities": "Catalog,Image,Metadata",
 "defaultMosaicMethod": "ByAttribute",
 "allowedMosaicMethods": "ByAttribute,NorthWest,Center,LockRaster,Nadir,None",
 "sortField": "Best",
 "sortValue": "0",
 "sortAscending": true,
 "mosaicOperator": "First",
 "maxDownloadSizeLimit": 2048,
 "defaultCompressionQuality": 85,
 "defaultResamplingMethod": "Bilinear",
 "maxImageHeight": 4000,
 "maxImageWidth": 4000,
 "maxRecordCount": 1000,
 "maxDownloadImageCount": 20,
 "maxMosaicImageCount": 20,
 "allowRasterFunction": true,
 "rasterFunctionInfos": [
  {
   "name": "Pansharpened Enhanced with DRA",
   "description": "Natural Color bands red, green, blue(4, 3, 2) pansharpened with 15m panchromatic band 8 and dynamic range adjustment applied on apparent reflectance.",
   "help": ""
  },
  {
   "name": "Pansharpened Natural Color",
   "description": "Natural Color bands red, green, blue(4, 3, 2) pansharpened with 15m panchromatic band 8 and fixed stretch applied on apparent reflectance.",
   "help": ""
  },
  {
   "name": "None",
   "description": "",
   "help": ""
  }
 ],
 "rasterTypeInfos": [
  {
   "name": "Raster Dataset",
   "description": "Supports all ArcGIS Raster Datasets",
   "help": ""
  }
 ],
 "mensurationCapabilities": "",
 "hasHistograms": false,
 "hasColormap": false,
 "hasRasterAttributeTable": false,
 "minScale": 0,
 "maxScale": 0,
 "exportTilesAllowed": false,
 "supportsStatistics": true,
 "supportsAdvancedQueries": true,
 "editFieldsInfo": null,
 "ownershipBasedAccessControlForRasters": null,
 "allowComputeTiePoints": false,
 "useStandardizedQueries": true,
 "advancedQueryCapabilities": {
  "useStandardizedQueries": true,
  "supportsStatistics": true,
  "supportsOrderBy": true,
  "supportsDistinct": true,
  "supportsPagination": true
 },
 "spatialReference": {
  "wkid": 102100,
  "latestWkid": 3857
 }
}
